BEGIN:VCALENDAR
VERSION:2.0
PRODID:-//The Project Management Collective - ECPv6.15.20//NONSGML v1.0//EN
CALSCALE:GREGORIAN
METHOD:PUBLISH
X-WR-CALNAME:The Project Management Collective
X-ORIGINAL-URL:https://promana.co
X-WR-CALDESC:Events for The Project Management Collective
REFRESH-INTERVAL;VALUE=DURATION:PT1H
X-Robots-Tag:noindex
X-PUBLISHED-TTL:PT1H
BEGIN:VTIMEZONE
TZID:UTC
BEGIN:STANDARD
TZOFFSETFROM:+0000
TZOFFSETTO:+0000
TZNAME:UTC
DTSTART:20250101T000000
END:STANDARD
END:VTIMEZONE
BEGIN:VEVENT
DTSTART;TZID=UTC:20260417T080000
DTEND;TZID=UTC:20260417T170000
DTSTAMP:20260423T084926
CREATED:20260326T073155Z
LAST-MODIFIED:20260409T005124Z
UID:183-1776412800-1776445200@promana.co
SUMMARY:Strategy Planning
DESCRIPTION:This meeting involves learning about how to plan out strategies in achieving your goals!
URL:https://promana.co/event/strategy-planning/
CATEGORIES:Workshop
END:VEVENT
END:VCALENDAR